BEGIN:VCALENDAR
VERSION:2.0
PRODID:-//SV MOOSBACH e.V. - ECPv6.15.20//NONSGML v1.0//EN
CALSCALE:GREGORIAN
METHOD:PUBLISH
X-WR-CALNAME:SV MOOSBACH e.V.
X-ORIGINAL-URL:https://www.sv-moosbach.de
X-WR-CALDESC:Veranstaltungen für SV MOOSBACH e.V.
REFRESH-INTERVAL;VALUE=DURATION:PT1H
X-Robots-Tag:noindex
X-PUBLISHED-TTL:PT1H
BEGIN:VTIMEZONE
TZID:Europe/Berlin
BEGIN:DAYLIGHT
TZOFFSETFROM:+0100
TZOFFSETTO:+0200
TZNAME:CEST
DTSTART:20250330T010000
END:DAYLIGHT
BEGIN:STANDARD
TZOFFSETFROM:+0200
TZOFFSETTO:+0100
TZNAME:CET
DTSTART:20251026T010000
END:STANDARD
BEGIN:DAYLIGHT
TZOFFSETFROM:+0100
TZOFFSETTO:+0200
TZNAME:CEST
DTSTART:20260329T010000
END:DAYLIGHT
BEGIN:STANDARD
TZOFFSETFROM:+0200
TZOFFSETTO:+0100
TZNAME:CET
DTSTART:20261025T010000
END:STANDARD
BEGIN:DAYLIGHT
TZOFFSETFROM:+0100
TZOFFSETTO:+0200
TZNAME:CEST
DTSTART:20270328T010000
END:DAYLIGHT
BEGIN:STANDARD
TZOFFSETFROM:+0200
TZOFFSETTO:+0100
TZNAME:CET
DTSTART:20271031T010000
END:STANDARD
END:VTIMEZONE
BEGIN:VEVENT
DTSTART;TZID=Europe/Berlin:20260217T140000
DTEND;TZID=Europe/Berlin:20260217T163000
DTSTAMP:20260419T205145
CREATED:20260111T174647Z
LAST-MODIFIED:20260111T174719Z
UID:4740-1771336800-1771345800@www.sv-moosbach.de
SUMMARY:Kinderfasching
DESCRIPTION:Kinderfasching\nTolle Spiele mit super Überraschungen\, Bonbonregen\, etc.\nKommt alle vorbei und bringt Freunde\, Eltern\, Großeltern\nund gute Laune mit!! \n  \nEinladung
URL:https://www.sv-moosbach.de/event/kinderfasching/
LOCATION:Bürgerhalle Moosbach\, Kirchenstraße 3\, Feucht\, 90537
CATEGORIES:SV Moosbach
END:VEVENT
END:VCALENDAR