BEGIN:VCALENDAR
VERSION:2.0
PRODID:-//SV MOOSBACH e.V. - ECPv6.15.20//NONSGML v1.0//EN
CALSCALE:GREGORIAN
METHOD:PUBLISH
X-ORIGINAL-URL:https://www.sv-moosbach.de
X-WR-CALDESC:Veranstaltungen für SV MOOSBACH e.V.
REFRESH-INTERVAL;VALUE=DURATION:PT1H
X-Robots-Tag:noindex
X-PUBLISHED-TTL:PT1H
BEGIN:VTIMEZONE
TZID:Europe/Berlin
BEGIN:DAYLIGHT
TZOFFSETFROM:+0100
TZOFFSETTO:+0200
TZNAME:CEST
DTSTART:20250330T010000
END:DAYLIGHT
BEGIN:STANDARD
TZOFFSETFROM:+0200
TZOFFSETTO:+0100
TZNAME:CET
DTSTART:20251026T010000
END:STANDARD
BEGIN:DAYLIGHT
TZOFFSETFROM:+0100
TZOFFSETTO:+0200
TZNAME:CEST
DTSTART:20260329T010000
END:DAYLIGHT
BEGIN:STANDARD
TZOFFSETFROM:+0200
TZOFFSETTO:+0100
TZNAME:CET
DTSTART:20261025T010000
END:STANDARD
BEGIN:DAYLIGHT
TZOFFSETFROM:+0100
TZOFFSETTO:+0200
TZNAME:CEST
DTSTART:20270328T010000
END:DAYLIGHT
BEGIN:STANDARD
TZOFFSETFROM:+0200
TZOFFSETTO:+0100
TZNAME:CET
DTSTART:20271031T010000
END:STANDARD
END:VTIMEZONE
BEGIN:VEVENT
DTSTART;TZID=Europe/Berlin:20260509T133000
DTEND;TZID=Europe/Berlin:20260509T133000
DTSTAMP:20260423T234225
CREATED:20260411T161921Z
LAST-MODIFIED:20260411T165141Z
UID:3983-1778333400-1778333400@www.sv-moosbach.de
SUMMARY:Vereinsmeisterschaft der Bogenschützen
DESCRIPTION:Heute ab 13:30 eröffnen die Bogenschützen des SV Mossbach die Außen-Saisson. \n  \n72 Pfeile auf die jeweilig altersgerechte Entfernung. Ziel ist es natürlich immer Alle ins Gold zu schiessen. \nAusschreibung \nBesucher sind willkommen
URL:https://www.sv-moosbach.de/event/vereinsmeisterschaft-der-bogenschuetzen/
LOCATION:SVM Bogen\, Birnthoner Weg 8\, Feucht\, 90537
CATEGORIES:Bogen,SV Moosbach
END:VEVENT
BEGIN:VEVENT
DTSTART;VALUE=DATE:20260514
DTEND;VALUE=DATE:20260515
DTSTAMP:20260423T234225
CREATED:20260111T175204Z
LAST-MODIFIED:20260111T175204Z
UID:4745-1778716800-1778803199@www.sv-moosbach.de
SUMMARY:Dorffest
DESCRIPTION:nähere Infos folgen
URL:https://www.sv-moosbach.de/event/dorffest/
CATEGORIES:SV Moosbach
END:VEVENT
BEGIN:VEVENT
DTSTART;VALUE=DATE:20260516
DTEND;VALUE=DATE:20260518
DTSTAMP:20260423T234225
CREATED:20260111T100419Z
LAST-MODIFIED:20260411T165628Z
UID:4690-1778889600-1779062399@www.sv-moosbach.de
SUMMARY:Bogen - GAU Meisterschaft
DESCRIPTION:  \nAusschreibung
URL:https://www.sv-moosbach.de/event/bogen-gau-meisterschaft-2/
LOCATION:BS Feucht\, Äußere Weißenseestrasse 10\, Feucht\, 90537\, Deutschland
CATEGORIES:Bogen,SV Moosbach
END:VEVENT
BEGIN:VEVENT
DTSTART;VALUE=DATE:20260613
DTEND;VALUE=DATE:20260615
DTSTAMP:20260423T234225
CREATED:20260208T173939Z
LAST-MODIFIED:20260208T174201Z
UID:4889-1781308800-1781481599@www.sv-moosbach.de
SUMMARY:Bogen - Bezirksmeisterschaft WA 2026
DESCRIPTION:Veranstalter:    Mittelfränkischer Schützenbund\nTermin:             13./14. Juni 2026\nAusrichter:       Bogenschützen Feucht\nOrt:                    Äußere Weißenseestraße 10\, 90537 Feucht \nZeitplan:\nSamstag 08:15 Uhr Begrüßung\, anschließend 30 Min. Einschießen / ab 09:00 Uhr Beginn Wertung\n13:45 Uhr Begrüßung\, anschließend 30 Min. Einschießen / ab 14:30 Uhr Beginn Wertung \nSonntag 08:15 Uhr Begrüßung\, anschließend 30 Min. Einschießen / ab 09:00 Uhr Beginn Wertung\n13:45 Uhr Begrüßung\, anschließend 30 Min. Einschießen / ab 14:30 Uhr Beginn Wertung\ndie Bogenkontrolle ist bis zur jeweiligen Begrüßung durchzuführen. \nGruppeneinteilung:\nSamstag\, Vormittag: alle Schülerklassen (Recurve-\, Compound-\, Blankbogen)\nNachmittag: Blankbogen alle Klassen (außer Blank Schüler)\nCompound: alle Klassen (außer Comp.Schüler) \nSonntag\, Vormittag: Recurve: Master; Senioren\nNachmittag: Recurve: Jugend m/w; Junioren m/w; Damen; Herren \n  \nAusschreibung
URL:https://www.sv-moosbach.de/event/bogen-bezirksmeisterschaft-wa-2026/
LOCATION:BS Feucht\, Äußere Weißenseestrasse 10\, Feucht\, 90537\, Deutschland
CATEGORIES:Bogen,SV Moosbach
END:VEVENT
BEGIN:VEVENT
DTSTART;TZID=Europe/Berlin:20260620T143000
DTEND;TZID=Europe/Berlin:20260620T170000
DTSTAMP:20260423T234225
CREATED:20260111T175538Z
LAST-MODIFIED:20260111T175924Z
UID:4747-1781965800-1781974800@www.sv-moosbach.de
SUMMARY:Sonnwendfeier
DESCRIPTION:nähere Infos folgen
URL:https://www.sv-moosbach.de/event/sonnwendfeier/
LOCATION:Vereinsheim SVM\, Birnthoner Str. 8
CATEGORIES:SV Moosbach
END:VEVENT
BEGIN:VEVENT
DTSTART;TZID=Europe/Berlin:20260712T103000
DTEND;TZID=Europe/Berlin:20260712T173000
DTSTAMP:20260423T234225
CREATED:20260411T162442Z
LAST-MODIFIED:20260411T162442Z
UID:5018-1783852200-1783877400@www.sv-moosbach.de
SUMMARY:Bogen - Zeidlerturnier des SVM
DESCRIPTION:Es ist wieder soweit – die Moosbacher Schützen laden\nam Sonntag den 12. Juli 2026  zum \n\n\n\n\n35. Original Moosbacher Zeidlerturnier \n\n\n\n\n\n\n\nam Bogenplatz des SVM. \nZeidlerturnier
URL:https://www.sv-moosbach.de/event/bogen-zeidlerturnier-des-svm/
LOCATION:SVM Bogen\, Birnthoner Weg 8\, Feucht\, 90537
CATEGORIES:Bogen,SV Moosbach
END:VEVENT
BEGIN:VEVENT
DTSTART;VALUE=DATE:20260717
DTEND;VALUE=DATE:20260720
DTSTAMP:20260423T234225
CREATED:20260111T175750Z
LAST-MODIFIED:20260111T175812Z
UID:4749-1784246400-1784505599@www.sv-moosbach.de
SUMMARY:Bogen - Bayerische Meisterschaft
DESCRIPTION:
URL:https://www.sv-moosbach.de/event/bogen-bayerische-meisterschaft/
LOCATION:München Hochbrück\, Ingolstädter Landstraße 110\, Garching\, 85748\, Deutschland
CATEGORIES:Bogen,SV Moosbach
END:VEVENT
BEGIN:VEVENT
DTSTART;VALUE=DATE:20260723
DTEND;VALUE=DATE:20260727
DTSTAMP:20260423T234225
CREATED:20260411T162950Z
LAST-MODIFIED:20260411T164751Z
UID:5020-1784764800-1785110399@www.sv-moosbach.de
SUMMARY:Bogen - The Finals (der SVM hat wieder Mannschaften am Start)
DESCRIPTION:Die Deutsche Meisterschaft in den Mannschaftswettbewerben. \n  \nThe Finals
URL:https://www.sv-moosbach.de/event/bogen-the-finals-der-svm-hat-wieder-mannschaften-am-start/
CATEGORIES:Bogen,SV Moosbach
END:VEVENT
END:VCALENDAR